BEGIN:VCALENDAR
VERSION:2.0
PRODID:-//192.124.249.168//NONSGML kigkonsult.se iCalcreator 2.26.9//
CALSCALE:GREGORIAN
METHOD:PUBLISH
X-FROM-URL:https://charlaineharris.com
X-WR-TIMEZONE:America/Chicago
BEGIN:VTIMEZONE
TZID:America/Chicago
X-LIC-LOCATION:America/Chicago
BEGIN:STANDARD
DTSTART:20251102T020000
TZOFFSETFROM:-0500
TZOFFSETTO:-0600
RDATE:20261101T020000
TZNAME:CST
END:STANDARD
BEGIN:DAYLIGHT
DTSTART:20260308T020000
TZOFFSETFROM:-0600
TZOFFSETTO:-0500
RDATE:20270314T020000
TZNAME:CDT
END:DAYLIGHT
END:VTIMEZONE
BEGIN:VEVENT
UID:ai1ec-5380@charlaineharris.com
DTSTAMP:20260422T075754Z
CATEGORIES:
CONTACT:
DESCRIPTION:<p><a href='https://celsius232.es/charlaine-harris/' target='_b
 lank' rel='noopener'>Click here for more information</a></p>
DTSTART;VALUE=DATE:20230719
DTEND;VALUE=DATE:20230724
LOCATION:Aviles\, Spain
SEQUENCE:0
SUMMARY:Celsius 232
URL:https://charlaineharris.com/event/celsius-232/
X-COST-TYPE:free
END:VEVENT
BEGIN:VEVENT
UID:ai1ec-5281@charlaineharris.com
DTSTAMP:20260422T075754Z
CATEGORIES;LANGUAGE=en-US:Book Signing\,Convention
CONTACT:
DESCRIPTION:<p><a href='https://bouchercon2023.com' target='_blank' rel='no
 opener'>Click here for more information</a></p>
DTSTART;VALUE=DATE:20230830
DTEND;VALUE=DATE:20230904
LOCATION:Marriott Marquis San Diego Marina @ 333 W Harbor Dr\, San Diego\, 
 CA 92101
SEQUENCE:0
SUMMARY:Bouchercon
URL:https://charlaineharris.com/event/bouchercon/
X-COST-TYPE:free
END:VEVENT
BEGIN:VEVENT
UID:ai1ec-5460@charlaineharris.com
DTSTAMP:20260422T075754Z
CATEGORIES:
CONTACT:
DESCRIPTION:<p><a href='https://thrillerfest.com' target='_blank' rel='noop
 ener'>Click here for more info</a></p>
DTSTART;VALUE=DATE:20240528
DTEND;VALUE=DATE:20240602
SEQUENCE:0
SUMMARY:ThrillerFest
URL:https://charlaineharris.com/event/thrillerfest/
X-COST-TYPE:free
END:VEVENT
BEGIN:VEVENT
UID:ai1ec-5410@charlaineharris.com
DTSTAMP:20260422T075754Z
CATEGORIES:
CONTACT:
DESCRIPTION:<p><a href='https://writerspoliceacademy.com' target='_blank' r
 el='noopener'>Click here for more info</a></p>
DTSTART;VALUE=DATE:20240606
DTEND;VALUE=DATE:20240610
LOCATION:Green Bay\, WI
SEQUENCE:0
SUMMARY:Writers’ Police Academy Killer Con
URL:https://charlaineharris.com/event/writers-police-academy-killer-con/
X-COST-TYPE:free
END:VEVENT
BEGIN:VEVENT
UID:ai1ec-5454@charlaineharris.com
DTSTAMP:20260422T075754Z
CATEGORIES;LANGUAGE=en-US:Convention
CONTACT:
DESCRIPTION:<p><a href='https://www.bouchercon2024.com' target='_blank' rel
 ='noopener'>Click here for more information</a></p>
DTSTART;VALUE=DATE:20240828
DTEND;VALUE=DATE:20240902
LOCATION:Gaylord Opryland Resort @ 2800 Opryland Drive Nashville Tennessee 
 37214 USA
SEQUENCE:0
SUMMARY:Bouchercon
URL:https://charlaineharris.com/event/bouchercon-2/
X-COST-TYPE:free
END:VEVENT
BEGIN:VEVENT
UID:ai1ec-5486@charlaineharris.com
DTSTAMP:20260422T075754Z
CATEGORIES:
CONTACT:
DESCRIPTION:<h3 style='font-weight: 400\;'><strong>SCHEDULE</strong></h3>\n
 <h4 style='font-weight: 400\;'><strong>Saturday\, April 5<sup>th</sup> </s
 trong></h4>\n<p style='font-weight: 400\;'>10am-Noon – Book Signing</p>\n<
 p>1pm – Q&A with Charlaine Harris</p>\n<p style='font-weight: 400\;'>2pm-4
 pm – Book Signing</p>\n<h4 style='font-weight: 400\;'><strong>Sunday\, Apr
 il 6<sup>th</sup> </strong></h4>\n<p style='font-weight: 400\;'>11am-12pm 
 – Book Signing</p>\n<p style='font-weight: 400\;'>1pm – Q& A with Charlain
 e Harris and James Dashner</p>\n<p style='font-weight: 400\;'>2pm-4pm – Bo
 ok Signing</p>\n<p><a href='https://knoxvillebookfestival.com/?fbclid=IwY2
 xjawIHXdxleHRuA2FlbQIxMAABHfv3pkQ4nJS1CK45Sd-dnFjXjYclmHSMH5JdCWRdsuCfnciG
 95zja6vVWg_aem_rtw60Qa9B2yD_TCvmiK-Cw' target='_blank' rel='noopener'>Clic
 k here for more info</a></p>
DTSTART;VALUE=DATE:20250404
DTEND;VALUE=DATE:20250407
LOCATION:Knoxville Convention Center @ 701 Henley Street\, Knoxville\, TN 3
 7902
SEQUENCE:0
SUMMARY:Knoxville Book Festival
URL:https://charlaineharris.com/event/knoxville-book-festival/
X-COST-TYPE:free
END:VEVENT
BEGIN:VEVENT
UID:ai1ec-5507@charlaineharris.com
DTSTAMP:20260422T075754Z
CATEGORIES:
CONTACT:
DESCRIPTION:<p><a href='https://thrillerfest.com' target='_blank' rel='noop
 ener'>Click here for more info</a></p>
DTSTART;VALUE=DATE:20250617
DTEND;VALUE=DATE:20250622
SEQUENCE:0
SUMMARY:Thrillerfest
URL:https://charlaineharris.com/event/thrillerfest-2/
X-COST-TYPE:free
END:VEVENT
BEGIN:VEVENT
UID:ai1ec-5509@charlaineharris.com
DTSTAMP:20260422T075754Z
CATEGORIES:
CONTACT:
DESCRIPTION:<p><a href='https://www.dragoncon.org' target='_blank' rel='noo
 pener'>Click here for more info</a></p>
DTSTART;VALUE=DATE:20250828
DTEND;VALUE=DATE:20250902
SEQUENCE:0
SUMMARY:Dragon Con
URL:https://charlaineharris.com/event/dragon-con/
X-COST-TYPE:free
END:VEVENT
BEGIN:VEVENT
UID:ai1ec-5508@charlaineharris.com
DTSTAMP:20260422T075754Z
CATEGORIES:
CONTACT:
DESCRIPTION:<p><a href='https://www.bouchercon2025.com' target='_blank' rel
 ='noopener'>Click here for more info</a></p>
DTSTART;VALUE=DATE:20250903
DTEND;VALUE=DATE:20250908
SEQUENCE:0
SUMMARY:Bouchercon
URL:https://charlaineharris.com/event/bouchercon-3/
X-COST-TYPE:free
END:VEVENT
BEGIN:VEVENT
UID:ai1ec-5588@charlaineharris.com
DTSTAMP:20260422T075754Z
CATEGORIES:
CONTACT:
DESCRIPTION:<p><a href='https://thrillerfest.com'>Click here for more infor
 mation</a></p>
DTSTART;VALUE=DATE:20260505
DTEND;VALUE=DATE:20260510
LOCATION:New York Hilton Midtown @ 1335 6th Ave\, New York\, NY 10019
SEQUENCE:0
SUMMARY:Thrillerfest
URL:https://charlaineharris.com/event/thrillerfest-3/
X-COST-TYPE:free
END:VEVENT
BEGIN:VEVENT
UID:ai1ec-5405@charlaineharris.com
DTSTAMP:20260422T075754Z
CATEGORIES:
CONTACT:
DESCRIPTION:<h1><strong>Taking Part in Read For Pixels AMA Sessions</strong
 ></h1>\n<p>It’s easy peasy once you have a Reddit account:</p>\n<ol>\n<li>
 Go to <strong><a title='Opens in a new window' href='https://www.reddit.co
 m/r/Fantasy/' target='_blank' rel='noopener'>r/Fantasy (for Science Fictio
 n\, Fantasy\, and Horror AMAs)</a></strong> or <a title='Opens in a new wi
 ndow' href='https://www.reddit.com/r/romancebooks' target='_blank' rel='no
 opener'><strong>r/RomanceBooks (for Romance AMAs)</strong></a>. Log into y
 our Reddit account there.</li>\n<li>Scroll down the list of forum topics u
 ntil you see the AMA with the title that includes the author’s name and me
 ntions The Pixel Project and/or Read For Pixels.</li>\n<li>Click to access
  the AMA\, then type in your questions for the author. The author will ans
 wer your questions either during the designated start time starting <stron
 g>7pm CT/8pm ET (U.S. authors) or at intervals throughout the day (authors
  outside the U.S.).</strong></li>\n<li>Due to the “just in time” nature of
  AMAs (which are posted the day of the event)\, please visit the sub-reddi
 t <a title='Opens in a new window' href='https://www.reddit.com/r/fantasy'
  target='_blank' rel='noopener'>(r/Fantasy</a> or <a title='Opens in a new
  window' href='https://www.reddit.com/r/RomanceBooks/' target='_blank' rel
 ='noopener'>r/RomanceBooks</a>) stated under the bios of participating Rea
 d For Pixels authors below after 10am U.S. Eastern Time on the day of the 
 event to leave your questions for the author of the day.</li>\n</ol>
DTSTART;TZID=America/Chicago:20230904T100000
DTEND;TZID=America/Chicago:20230904T200000
LOCATION:https://www.reddit.com/r/fantasy
SEQUENCE:0
SUMMARY:Read For Pixels 10th Anniversary AMA Series
URL:https://charlaineharris.com/event/read-for-pixels-10th-anniversary-ama-
 series/
X-COST-TYPE:free
END:VEVENT
BEGIN:VEVENT
UID:ai1ec-5404@charlaineharris.com
DTSTAMP:20260422T075754Z
CATEGORIES:
CONTACT:
DESCRIPTION:<p><em>It Takes a Village: The Importance of Secondary Characte
 rs</em></p>\n<p><a href='https://desertsleuths.com/writenow-conference/wri
 tenow-2023-conference/' target='_blank' rel='noopener'>Register here</a></
 p>
DTSTART;TZID=America/Chicago:20230923T144500
DTEND;TZID=America/Chicago:20230923T154500
SEQUENCE:0
SUMMARY:WriteNOW! 2023 – Desert Sleuths Virtual Annual Conference
URL:https://charlaineharris.com/event/write-now-desert-sleuths-virtual-annu
 al-conference/
X-COST-TYPE:free
END:VEVENT
END:VCALENDAR
